BEGIN:VCALENDAR
VERSION:2.0
PRODID:-//OK España - ECPv6.15.15//NONSGML v1.0//EN
CALSCALE:GREGORIAN
METHOD:PUBLISH
X-ORIGINAL-URL:https://esp.okdinghy.org
X-WR-CALDESC:Events for OK España
REFRESH-INTERVAL;VALUE=DURATION:PT1H
X-Robots-Tag:noindex
X-PUBLISHED-TTL:PT1H
BEGIN:VTIMEZONE
TZID:Europe/Madrid
BEGIN:DAYLIGHT
TZOFFSETFROM:+0100
TZOFFSETTO:+0200
TZNAME:CEST
DTSTART:20250330T010000
END:DAYLIGHT
BEGIN:STANDARD
TZOFFSETFROM:+0200
TZOFFSETTO:+0100
TZNAME:CET
DTSTART:20251026T010000
END:STANDARD
BEGIN:DAYLIGHT
TZOFFSETFROM:+0100
TZOFFSETTO:+0200
TZNAME:CEST
DTSTART:20260329T010000
END:DAYLIGHT
BEGIN:STANDARD
TZOFFSETFROM:+0200
TZOFFSETTO:+0100
TZNAME:CET
DTSTART:20261025T010000
END:STANDARD
BEGIN:DAYLIGHT
TZOFFSETFROM:+0100
TZOFFSETTO:+0200
TZNAME:CEST
DTSTART:20270328T010000
END:DAYLIGHT
BEGIN:STANDARD
TZOFFSETFROM:+0200
TZOFFSETTO:+0100
TZNAME:CET
DTSTART:20271031T010000
END:STANDARD
END:VTIMEZONE
BEGIN:VEVENT
DTSTART;TZID=Europe/Madrid:20260228T110000
DTEND;TZID=Europe/Madrid:20260301T173000
DTSTAMP:20260421T153050
CREATED:20251227T150816Z
LAST-MODIFIED:20260211T103721Z
UID:339-1772276400-1772386200@esp.okdinghy.org
SUMMARY:Pro Rigging Regatta
DESCRIPTION:NOR\, is available here https://www.cyberaltura.com/files/documentos/arligadeinviernorcnp2026.pdf  \nMembership of the Baelearic Sailing Federation which provides you for third party insurance is available here: https://www.federacionbalearvela.org/es/content/licencia-fbv-2026/ini/1 \nEntry is available here https://regatas.federacionbalearvela.org/es/default/races/race-inscription-fbv-login/0?text=trofeo-pro-rigging-2026-es \nList of entries is here https://regatas.federacionbalearvela.org/es/default/races/race-inscriptions?text=trofeo-pro-rigging-2026-es
URL:https://esp.okdinghy.org/event/pro-rigging-regatta-2/
LOCATION:RCNP\, Muelle de San Pedro\, 1\, Palma\, Islas Baleares\, 07012\, Spain
END:VEVENT
BEGIN:VEVENT
DTSTART;TZID=Europe/Madrid:20260314T110000
DTEND;TZID=Europe/Madrid:20260315T173000
DTSTAMP:20260421T153050
CREATED:20251227T150816Z
LAST-MODIFIED:20260305T161853Z
UID:340-1773486000-1773595800@esp.okdinghy.org
SUMMARY:BM Composite Regatta
DESCRIPTION:Annual Event with dinner on Saturday night. Free beer ! \n  \nEntry is available here https://www.cyberaltura.com/default/020/pre_inscripcion.php?cl=1291 \nIF YOU DO NOT HAVE A DNI (FOR NON SPANISH) THEN ENTER 0000 \n  \nNOR\, is available here https://www.cyberaltura.com/files/documentos/arligadeinviernorcnp2026.pdf
URL:https://esp.okdinghy.org/event/bm-composite-regatta-2/
LOCATION:RCNP\, Muelle de San Pedro\, 1\, Palma\, Islas Baleares\, 07012\, Spain
END:VEVENT
END:VCALENDAR