BEGIN:VCALENDAR
VERSION:2.0
PRODID:-//OK España - ECPv6.15.15//NONSGML v1.0//EN
CALSCALE:GREGORIAN
METHOD:PUBLISH
X-ORIGINAL-URL:https://esp.okdinghy.org
X-WR-CALDESC:Events for OK España
REFRESH-INTERVAL;VALUE=DURATION:PT1H
X-Robots-Tag:noindex
X-PUBLISHED-TTL:PT1H
BEGIN:VTIMEZONE
TZID:Europe/Madrid
BEGIN:DAYLIGHT
TZOFFSETFROM:+0100
TZOFFSETTO:+0200
TZNAME:CEST
DTSTART:20250330T010000
END:DAYLIGHT
BEGIN:STANDARD
TZOFFSETFROM:+0200
TZOFFSETTO:+0100
TZNAME:CET
DTSTART:20251026T010000
END:STANDARD
BEGIN:DAYLIGHT
TZOFFSETFROM:+0100
TZOFFSETTO:+0200
TZNAME:CEST
DTSTART:20260329T010000
END:DAYLIGHT
BEGIN:STANDARD
TZOFFSETFROM:+0200
TZOFFSETTO:+0100
TZNAME:CET
DTSTART:20261025T010000
END:STANDARD
BEGIN:DAYLIGHT
TZOFFSETFROM:+0100
TZOFFSETTO:+0200
TZNAME:CEST
DTSTART:20270328T010000
END:DAYLIGHT
BEGIN:STANDARD
TZOFFSETFROM:+0200
TZOFFSETTO:+0100
TZNAME:CET
DTSTART:20271031T010000
END:STANDARD
END:VTIMEZONE
BEGIN:VEVENT
DTSTART;TZID=Europe/Madrid:20260408T143000
DTEND;TZID=Europe/Madrid:20260408T173000
DTSTAMP:20260422T012446
CREATED:20251227T150801Z
LAST-MODIFIED:20260331T081012Z
UID:334-1775658600-1775669400@esp.okdinghy.org
SUMMARY:Wednesday Racing
DESCRIPTION:Wednesday series of 4 races
URL:https://esp.okdinghy.org/event/wednesday-racing-19/
LOCATION:RCNP\, Muelle de San Pedro\, 1\, Palma\, Islas Baleares\, 07012\, Spain
END:VEVENT
BEGIN:VEVENT
DTSTART;TZID=Europe/Madrid:20260415T143000
DTEND;TZID=Europe/Madrid:20260415T173000
DTSTAMP:20260422T012446
CREATED:20251227T150801Z
LAST-MODIFIED:20260331T081057Z
UID:333-1776263400-1776274200@esp.okdinghy.org
SUMMARY:Wednesday Racing
DESCRIPTION:Wednesday series of 4 races
URL:https://esp.okdinghy.org/event/wednesday-racing-18/
LOCATION:RCNP\, Muelle de San Pedro\, 1\, Palma\, Islas Baleares\, 07012\, Spain
END:VEVENT
BEGIN:VEVENT
DTSTART;TZID=Europe/Madrid:20260422T143000
DTEND;TZID=Europe/Madrid:20260422T173000
DTSTAMP:20260422T012446
CREATED:20251227T150746Z
LAST-MODIFIED:20260331T081124Z
UID:332-1776868200-1776879000@esp.okdinghy.org
SUMMARY:Wednesday Racing
DESCRIPTION:Wednesday series of 4 races
URL:https://esp.okdinghy.org/event/wednesday-racing-17/
LOCATION:RCNP\, Muelle de San Pedro\, 1\, Palma\, Islas Baleares\, 07012\, Spain
END:VEVENT
BEGIN:VEVENT
DTSTART;TZID=Europe/Madrid:20260429T143000
DTEND;TZID=Europe/Madrid:20260429T173000
DTSTAMP:20260422T012446
CREATED:20251227T150746Z
LAST-MODIFIED:20260331T081146Z
UID:331-1777473000-1777483800@esp.okdinghy.org
SUMMARY:Wednesday Racing
DESCRIPTION:Wednesday series of 4 races
URL:https://esp.okdinghy.org/event/wednesday-racing-16/
LOCATION:RCNP\, Muelle de San Pedro\, 1\, Palma\, Islas Baleares\, 07012\, Spain
END:VEVENT
BEGIN:VEVENT
DTSTART;TZID=Europe/Madrid:20260501T000000
DTEND;TZID=Europe/Madrid:20260503T235900
DTSTAMP:20260422T012446
CREATED:20260103T175458Z
LAST-MODIFIED:20260103T175458Z
UID:400-1777593600-1777852740@esp.okdinghy.org
SUMMARY:Spring Cup
DESCRIPTION:
URL:https://esp.okdinghy.org/event/spring-cup/
LOCATION:Islas Baleares
END:VEVENT
BEGIN:VEVENT
DTSTART;TZID=Europe/Madrid:20260506T143000
DTEND;TZID=Europe/Madrid:20260506T173000
DTSTAMP:20260422T012446
CREATED:20251227T150746Z
LAST-MODIFIED:20260331T081223Z
UID:330-1778077800-1778088600@esp.okdinghy.org
SUMMARY:Wednesday Racing
DESCRIPTION:Wednesday series of 4 races
URL:https://esp.okdinghy.org/event/wednesday-racing-15/
LOCATION:RCNP\, Muelle de San Pedro\, 1\, Palma\, Islas Baleares\, 07012\, Spain
END:VEVENT
BEGIN:VEVENT
DTSTART;TZID=Europe/Madrid:20260509T100000
DTEND;TZID=Europe/Madrid:20260509T170000
DTSTAMP:20260422T012446
CREATED:20260126T171216Z
LAST-MODIFIED:20260126T171216Z
UID:420-1778320800-1778346000@esp.okdinghy.org
SUMMARY:RCNP Regatta
DESCRIPTION:Notice of Race \nhttps://www.cyberaltura.com/files/documentos/irligadeinviernorcnp2026.pdf
URL:https://esp.okdinghy.org/event/rcnp-regatta/
LOCATION:RCNP\, Muelle de San Pedro\, 1\, Palma\, Islas Baleares\, 07012\, Spain
END:VEVENT
BEGIN:VEVENT
DTSTART;TZID=Europe/Madrid:20260513T143000
DTEND;TZID=Europe/Madrid:20260513T173000
DTSTAMP:20260422T012446
CREATED:20251227T150745Z
LAST-MODIFIED:20260331T081323Z
UID:329-1778682600-1778693400@esp.okdinghy.org
SUMMARY:Wednesday Racing
DESCRIPTION:Wednesday series of 4 races
URL:https://esp.okdinghy.org/event/wednesday-racing-14/
LOCATION:RCNP\, Muelle de San Pedro\, 1\, Palma\, Islas Baleares\, 07012\, Spain
END:VEVENT
BEGIN:VEVENT
DTSTART;TZID=Europe/Madrid:20260516T110000
DTEND;TZID=Europe/Madrid:20260517T173000
DTSTAMP:20260422T012446
CREATED:20251227T150816Z
LAST-MODIFIED:20251227T150816Z
UID:341-1778929200-1779039000@esp.okdinghy.org
SUMMARY:Balearic Championships
DESCRIPTION:
URL:https://esp.okdinghy.org/event/balearic-championships-2/
LOCATION:Islas Baleares
END:VEVENT
BEGIN:VEVENT
DTSTART;TZID=Europe/Madrid:20260520T143000
DTEND;TZID=Europe/Madrid:20260520T173000
DTSTAMP:20260422T012446
CREATED:20251227T150744Z
LAST-MODIFIED:20260331T081417Z
UID:327-1779287400-1779298200@esp.okdinghy.org
SUMMARY:Wednesday Racing
DESCRIPTION:Wednesday series of 4 races
URL:https://esp.okdinghy.org/event/wednesday-racing-12/
LOCATION:RCNP\, Muelle de San Pedro\, 1\, Palma\, Islas Baleares\, 07012\, Spain
END:VEVENT
BEGIN:VEVENT
DTSTART;TZID=Europe/Madrid:20260520T143000
DTEND;TZID=Europe/Madrid:20260520T173000
DTSTAMP:20260422T012446
CREATED:20251227T150745Z
LAST-MODIFIED:20260331T081350Z
UID:328-1779287400-1779298200@esp.okdinghy.org
SUMMARY:Wednesday Racing
DESCRIPTION:Wednesday series of 4 races
URL:https://esp.okdinghy.org/event/wednesday-racing-13/
LOCATION:RCNP\, Muelle de San Pedro\, 1\, Palma\, Islas Baleares\, 07012\, Spain
END:VEVENT
BEGIN:VEVENT
DTSTART;TZID=Europe/Madrid:20260527T143000
DTEND;TZID=Europe/Madrid:20260527T173000
DTSTAMP:20260422T012446
CREATED:20251227T150744Z
LAST-MODIFIED:20260331T081502Z
UID:326-1779892200-1779903000@esp.okdinghy.org
SUMMARY:Wednesday Racing
DESCRIPTION:Wednesday series of 4 races
URL:https://esp.okdinghy.org/event/wednesday-racing-11/
LOCATION:RCNP\, Muelle de San Pedro\, 1\, Palma\, Islas Baleares\, 07012\, Spain
END:VEVENT
BEGIN:VEVENT
DTSTART;TZID=Europe/Madrid:20260606T000000
DTEND;TZID=Europe/Madrid:20260612T235900
DTSTAMP:20260422T012446
CREATED:20251227T150817Z
LAST-MODIFIED:20251227T160404Z
UID:342-1780704000-1781308740@esp.okdinghy.org
SUMMARY:World Championships
DESCRIPTION:All the information is available at https://2026.okworlds.org/ \n  \nEntries are at https://www.manage2sail.com/en-US/event/9149908f-7772-48e1-9f34-801b55ef556b#!/
URL:https://esp.okdinghy.org/event/world-championships-3/
LOCATION:Kongelig Dansk Yachtklub\, Skovshoved Havn 5\, Skovshoved\, 2920\, Denmark
END:VEVENT
BEGIN:VEVENT
DTSTART;TZID=Europe/Madrid:20260625T000000
DTEND;TZID=Europe/Madrid:20260628T005900
DTSTAMP:20260422T012446
CREATED:20260103T175459Z
LAST-MODIFIED:20260103T175459Z
UID:402-1782345600-1782608340@esp.okdinghy.org
SUMMARY:Kiel
DESCRIPTION:
URL:https://esp.okdinghy.org/event/kiel/
LOCATION:Islas Baleares
END:VEVENT
BEGIN:VEVENT
DTSTART;TZID=Europe/Madrid:20260908T000000
DTEND;TZID=Europe/Madrid:20260913T235900
DTSTAMP:20260422T012446
CREATED:20260103T175458Z
LAST-MODIFIED:20260103T175458Z
UID:401-1788825600-1789343940@esp.okdinghy.org
SUMMARY:European Championships
DESCRIPTION:
URL:https://esp.okdinghy.org/event/european-championships/
LOCATION:Islas Baleares
END:VEVENT
BEGIN:VEVENT
DTSTART;TZID=Europe/Madrid:20260916T000000
DTEND;TZID=Europe/Madrid:20260919T015900
DTSTAMP:20260422T012446
CREATED:20260103T175459Z
LAST-MODIFIED:20260103T175459Z
UID:403-1789516800-1789783140@esp.okdinghy.org
SUMMARY:Bandol Autumn Trophy
DESCRIPTION:
URL:https://esp.okdinghy.org/event/bandol-autumn-trophy/
LOCATION:Islas Baleares
END:VEVENT
END:VCALENDAR