BEGIN:VCALENDAR
VERSION:2.0
PRODID:-//OK España - ECPv6.15.15//NONSGML v1.0//EN
CALSCALE:GREGORIAN
METHOD:PUBLISH
X-WR-CALNAME:OK España
X-ORIGINAL-URL:https://esp.okdinghy.org
X-WR-CALDESC:Events for OK España
REFRESH-INTERVAL;VALUE=DURATION:PT1H
X-Robots-Tag:noindex
X-PUBLISHED-TTL:PT1H
BEGIN:VTIMEZONE
TZID:Europe/Madrid
BEGIN:DAYLIGHT
TZOFFSETFROM:+0100
TZOFFSETTO:+0200
TZNAME:CEST
DTSTART:20250330T010000
END:DAYLIGHT
BEGIN:STANDARD
TZOFFSETFROM:+0200
TZOFFSETTO:+0100
TZNAME:CET
DTSTART:20251026T010000
END:STANDARD
BEGIN:DAYLIGHT
TZOFFSETFROM:+0100
TZOFFSETTO:+0200
TZNAME:CEST
DTSTART:20260329T010000
END:DAYLIGHT
BEGIN:STANDARD
TZOFFSETFROM:+0200
TZOFFSETTO:+0100
TZNAME:CET
DTSTART:20261025T010000
END:STANDARD
BEGIN:DAYLIGHT
TZOFFSETFROM:+0100
TZOFFSETTO:+0200
TZNAME:CEST
DTSTART:20270328T010000
END:DAYLIGHT
BEGIN:STANDARD
TZOFFSETFROM:+0200
TZOFFSETTO:+0100
TZNAME:CET
DTSTART:20271031T010000
END:STANDARD
END:VTIMEZONE
BEGIN:VEVENT
DTSTART;TZID=Europe/Madrid:20260509T100000
DTEND;TZID=Europe/Madrid:20260509T170000
DTSTAMP:20260421T173219
CREATED:20260126T171216Z
LAST-MODIFIED:20260126T171216Z
UID:420-1778320800-1778346000@esp.okdinghy.org
SUMMARY:RCNP Regatta
DESCRIPTION:Notice of Race \nhttps://www.cyberaltura.com/files/documentos/irligadeinviernorcnp2026.pdf
URL:https://esp.okdinghy.org/event/rcnp-regatta/
LOCATION:RCNP\, Muelle de San Pedro\, 1\, Palma\, Islas Baleares\, 07012\, Spain
END:VEVENT
END:VCALENDAR